BEGIN:VCALENDAR
VERSION:2.0
PRODID:-//Christ Church Neighborhood House - ECPv6.15.6//NONSGML v1.0//EN
CALSCALE:GREGORIAN
METHOD:PUBLISH
X-ORIGINAL-URL:https://neighborhood-house.com
X-WR-CALDESC:Events for Christ Church Neighborhood House
REFRESH-INTERVAL;VALUE=DURATION:PT1H
X-Robots-Tag:noindex
X-PUBLISHED-TTL:PT1H
BEGIN:VTIMEZONE
TZID:America/New_York
BEGIN:DAYLIGHT
TZOFFSETFROM:-0500
TZOFFSETTO:-0400
TZNAME:EDT
DTSTART:20210314T070000
END:DAYLIGHT
BEGIN:STANDARD
TZOFFSETFROM:-0400
TZOFFSETTO:-0500
TZNAME:EST
DTSTART:20211107T060000
END:STANDARD
BEGIN:DAYLIGHT
TZOFFSETFROM:-0500
TZOFFSETTO:-0400
TZNAME:EDT
DTSTART:20220313T070000
END:DAYLIGHT
BEGIN:STANDARD
TZOFFSETFROM:-0400
TZOFFSETTO:-0500
TZNAME:EST
DTSTART:20221106T060000
END:STANDARD
BEGIN:DAYLIGHT
TZOFFSETFROM:-0500
TZOFFSETTO:-0400
TZNAME:EDT
DTSTART:20230312T070000
END:DAYLIGHT
BEGIN:STANDARD
TZOFFSETFROM:-0400
TZOFFSETTO:-0500
TZNAME:EST
DTSTART:20231105T060000
END:STANDARD
END:VTIMEZONE
BEGIN:VEVENT
DTSTART;TZID=America/New_York:20220109T110000
DTEND;TZID=America/New_York:20220109T123000
DTSTAMP:20260422T062430
CREATED:20220107T200235Z
LAST-MODIFIED:20220108T223349Z
UID:5063-1641726000-1641731400@neighborhood-house.com
SUMMARY:*** CANCELED *** Christ Church Neighborhood Walking Tours: The African American Museum in Philadelphia
DESCRIPTION:Join us as we traverse across Old City to visit the African American Museum in Philadelphia. Together\, we will view their two current exhibitions: Audacious Freedom & Portals + Revelations. You can walk over with everyone from Christ Church or meet the group at the African American Museum at 7th and Arch Streets at 11:30AM. \nAudacious Freedom: African Americans in Philadelphia 1776 – 1876\, recounts the stories of and contributions made by people of African descent in Philadelphia during the tumultuous years following the founding of our nation. Through this exhibit visitors will learn who the people were\, how they lived and worked\, and their unheralded impact on our nation. \nPortals + Revelations explores the artist’s creative evolution during his time as AAMP’s artist-in-residence\, spotlighting mixed media\, abstraction\, and assemblage- lesser known but powerful aspects of his practice. The exhibition forges an ancestral link between past\, present and future\, while transforming the ordinary into the sublime. \nEmail Hannah Wallace to reserve your spot! \nAdditional Details:\nCheck in location: Christ Church at 2nd & Market Streets\nAdmission: $10 adults\, $5 children (12 and under)\nCapacity: 15 people\nTour Length: About 15 minutes to walk to the African American Museum in Philadelphia (or you can meet us there at 11:30AM). 1hr indoors at AAMP.\nWalking Distance: 0.5 miles \nSchedule:\n11:00 – 11:10PM: Check in at Christ Church\n11:10 – 11:30PM: Walk to The African American Museum in Philadelphia\n11:30 – 12:30PM: Guided tour of The African American Museum in Philadelphia\n12:30 – 12:45PM: Walk back to Christ Church \n			\n				More Information
URL:https://neighborhood-house.com/event/christ-church-neighborhood-walking-tours-the-african-american-museum-in-philadelphia/
LOCATION:PA
END:VEVENT
BEGIN:VEVENT
DTSTART;TZID=America/New_York:20220116T120000
DTEND;TZID=America/New_York:20220116T131500
DTSTAMP:20260422T062430
CREATED:20220114T152744Z
LAST-MODIFIED:20220114T153345Z
UID:5246-1642334400-1642338900@neighborhood-house.com
SUMMARY:MLK Weekend Transcribe-A-Thon
DESCRIPTION:Please note attendees will need to read cursive to transcribe. \nTune in on Sunday\, January 16\, 12:00 – 1:15 pm to learn about our Transcribe-A-Thon! The African American Museum in Philadelphia is proud to partner with the Christ Church Preservation Trust to make this scholarly program possible. \nTo “transcribe” means to make an exact copy of something. This year\, we will be copying Philadelphia Congregations Early Records from the 18th & 19th centuries. These records illuminate topics including Philadelphia’s activities during the Civil War\, the role of the church in enslaved and free African communities from the mid-1700s through the Civil War\, and the rise of new religious denominations\, such as the Episcopal Church and the African Episcopal Church of St. Thomas. \nTranscription turns handwritten and typed documents into searchable and machine-readable resources. This not only means that content transcribed becomes text-searchable online (and discoverable!)\, but it also ensures that historical materials can be accessible for all. Together\, we are unlocking secrets hidden deep inside our collections that illuminate our history and our world. \nThank you for becoming a digital volunteer! \n			\n				Register Here
URL:https://neighborhood-house.com/event/mlk-weekend-transcribe-a-thon/
LOCATION:Virtual Event\, Zoom
ATTACH;FMTTYPE=image/jpeg:https://neighborhood-house.com/wp-content/uploads/2022/01/Phila-Early-Records-Photo-e1641318929518.jpg
END:VEVENT
END:VCALENDAR