BEGIN:VCALENDAR
VERSION:2.0
PRODID:-//Christ Church Neighborhood House - ECPv6.15.6//NONSGML v1.0//EN
CALSCALE:GREGORIAN
METHOD:PUBLISH
X-WR-CALNAME:Christ Church Neighborhood House
X-ORIGINAL-URL:https://neighborhood-house.com
X-WR-CALDESC:Events for Christ Church Neighborhood House
REFRESH-INTERVAL;VALUE=DURATION:PT1H
X-Robots-Tag:noindex
X-PUBLISHED-TTL:PT1H
BEGIN:VTIMEZONE
TZID:America/New_York
BEGIN:DAYLIGHT
TZOFFSETFROM:-0500
TZOFFSETTO:-0400
TZNAME:EDT
DTSTART:20200308T070000
END:DAYLIGHT
BEGIN:STANDARD
TZOFFSETFROM:-0400
TZOFFSETTO:-0500
TZNAME:EST
DTSTART:20201101T060000
END:STANDARD
BEGIN:DAYLIGHT
TZOFFSETFROM:-0500
TZOFFSETTO:-0400
TZNAME:EDT
DTSTART:20210314T070000
END:DAYLIGHT
BEGIN:STANDARD
TZOFFSETFROM:-0400
TZOFFSETTO:-0500
TZNAME:EST
DTSTART:20211107T060000
END:STANDARD
BEGIN:DAYLIGHT
TZOFFSETFROM:-0500
TZOFFSETTO:-0400
TZNAME:EDT
DTSTART:20220313T070000
END:DAYLIGHT
BEGIN:STANDARD
TZOFFSETFROM:-0400
TZOFFSETTO:-0500
TZNAME:EST
DTSTART:20221106T060000
END:STANDARD
END:VTIMEZONE
BEGIN:VEVENT
DTSTART;TZID=America/New_York:20211106T120000
DTEND;TZID=America/New_York:20211106T150000
DTSTAMP:20260422T061712
CREATED:20211105T155626Z
LAST-MODIFIED:20211105T160804Z
UID:3812-1636200000-1636210800@neighborhood-house.com
SUMMARY:Occupied Philadelphia Comes to Christ Church
DESCRIPTION:The British are coming (this weekend!) \nThe Museum of the American Revolution (MOAR) will recreate the dark days of the 1777-78 British occupation within Old City\, Philadelphia. In partnership with MOAR\, we welcome visitors to a weekend of historic happenings at the Church! Join us for family friendly activities and take a tour of Christ Church to pay homage to those buried within our hallowed grounds. \nOn Saturday\, meet Elizabeth Powel– Revolutionary era socialite\, intellectual\, and abolitionist. \nOn Sunday\, meet Benjamin Franklin– Revolutionary era printer\, scientist\, and diplomat. \nActivities for the day include:– Coloring Pages\, Games\, and Puzzles for all ages!– Decorate Your Own Ceramic Tea Cup and Saucer. \nChrist Church Admission:FREE: Craft activities and Historical Figure meet and greet$5 Adult guided tour or self guided tour (self-guided map included)$2 Children guided tour or self guided tour (12 and under)Sunday: Donate as you wish \n			\n				More Information
URL:https://neighborhood-house.com/event/occupied-philadelphia-comes-to-christ-church/2021-11-06/
LOCATION:Christ Church Garden\, 20 N American Street\, Philadelphia\, PA\, 19106\, United States
ATTACH;FMTTYPE=image/jpeg:https://neighborhood-house.com/wp-content/uploads/2021/11/22496327_1790337961019040_883157772233191997_o.jpg
END:VEVENT
BEGIN:VEVENT
DTSTART;TZID=America/New_York:20211111T113000
DTEND;TZID=America/New_York:20211111T160000
DTSTAMP:20260422T061712
CREATED:20211109T153541Z
LAST-MODIFIED:20211109T153811Z
UID:3886-1636630200-1636646400@neighborhood-house.com
SUMMARY:Damn the Wars but Bless the Soldier
DESCRIPTION:A Special Veterans Day Remembrance Tour (included with admission). \nMilitary Historian Tom Snow will provide a distinct perspective on America’s wars by honoring the men and women that fought those wars. \nTours are every half hour starting at 11:30 am until 4 pm. \n			\n				More Information
URL:https://neighborhood-house.com/event/damn-the-wars-but-bless-the-soldier/
LOCATION:Burial Ground\, 5th and Arch Streets\, Philadelphia\, PA\, 19106\, United States
ATTACH;FMTTYPE=image/jpeg:https://neighborhood-house.com/wp-content/uploads/2021/11/american-flag-g95ec3518b_1920.jpg
END:VEVENT
BEGIN:VEVENT
DTSTART;TZID=America/New_York:20211112T200000
DTEND;TZID=America/New_York:20211112T213000
DTSTAMP:20260422T061712
CREATED:20211107T204607Z
LAST-MODIFIED:20211107T204741Z
UID:3862-1636747200-1636752600@neighborhood-house.com
SUMMARY:The Other Side
DESCRIPTION:Don’t miss SHARP Dance Company’s return to their home city! The night will include two world premieres\, works by four choreographers\, pandemic collaborations\, as well as\, some old favorites. \nProof of vaccination and masks are required for all attending. \n			\n				Reserve Tickets
URL:https://neighborhood-house.com/event/the-other-side/2021-11-12/
LOCATION:Neighborhood House\, 20 N American Street\, Philadelphia\, PA\, 19106\, United States
ATTACH;FMTTYPE=image/jpeg:https://neighborhood-house.com/wp-content/uploads/2021/11/244519873_4320660474676408_1054050021903000625_n.jpg
END:VEVENT
BEGIN:VEVENT
DTSTART;TZID=America/New_York:20211129T120000
DTEND;TZID=America/New_York:20211129T130000
DTSTAMP:20260422T061712
CREATED:20211119T141751Z
LAST-MODIFIED:20211214T023450Z
UID:4319-1638187200-1638190800@neighborhood-house.com
SUMMARY:Christ Church Neighborhood Walking Tours: First Generation Africans of the 17th – 18th Century
DESCRIPTION:Put on your winter coats and walking shoes for an informative tour around Old City at noon on Monday\, November 29 and Tuesday\, November 30. Join us as we take a 40-minute walk around town to examine the legacies of first-generation Africans who made a way out of no way to survive a city which sought to enslave themselves and their future generations for life. Together\, we will visit sites that set American history in motion yet receive little to no recognition to this day. Dress warmly and bring your curiosity! \nEmail Hannah Wallace to reserve your spot! \nAdditional Details:Check in location: Christ Church at 2nd & Market StreetsAdmission: $10 adults\, $5 children (12 and under)Capacity: 15 peopleTour Length: About 40 minutes outdoors (dependent upon the weather)Walking Distance: 0.5 miles \nSchedule:12:00 – 12:10 pm: Check in at the Christ Church Gift Shop.12:10 – 12:50 pm: Walking Tour12:50 – 1:00 pm: Return to Christ Church and view our Gift Shop! \n			\n				More Information
URL:https://neighborhood-house.com/event/christ-church-neighborhood-walking-tours-first-generation-africans-of-the-17th-18th-century/2021-11-29/
LOCATION:Christ Church\, 2nd & Church Streets\, Philadelphia\, PA\, 19106\, United States
ATTACH;FMTTYPE=image/jpeg:https://neighborhood-house.com/wp-content/uploads/2021/11/Second_Street_north_from_Market_Birchs_Views_Plate_15.jpg
END:VEVENT
END:VCALENDAR