BEGIN:VCALENDAR
VERSION:2.0
PRODID:-//Christ Church Neighborhood House - ECPv6.15.6//NONSGML v1.0//EN
CALSCALE:GREGORIAN
METHOD:PUBLISH
X-ORIGINAL-URL:https://neighborhood-house.com
X-WR-CALDESC:Events for Christ Church Neighborhood House
REFRESH-INTERVAL;VALUE=DURATION:PT1H
X-Robots-Tag:noindex
X-PUBLISHED-TTL:PT1H
BEGIN:VTIMEZONE
TZID:America/New_York
BEGIN:DAYLIGHT
TZOFFSETFROM:-0500
TZOFFSETTO:-0400
TZNAME:EDT
DTSTART:20200308T070000
END:DAYLIGHT
BEGIN:STANDARD
TZOFFSETFROM:-0400
TZOFFSETTO:-0500
TZNAME:EST
DTSTART:20201101T060000
END:STANDARD
BEGIN:DAYLIGHT
TZOFFSETFROM:-0500
TZOFFSETTO:-0400
TZNAME:EDT
DTSTART:20210314T070000
END:DAYLIGHT
BEGIN:STANDARD
TZOFFSETFROM:-0400
TZOFFSETTO:-0500
TZNAME:EST
DTSTART:20211107T060000
END:STANDARD
BEGIN:DAYLIGHT
TZOFFSETFROM:-0500
TZOFFSETTO:-0400
TZNAME:EDT
DTSTART:20220313T070000
END:DAYLIGHT
BEGIN:STANDARD
TZOFFSETFROM:-0400
TZOFFSETTO:-0500
TZNAME:EST
DTSTART:20221106T060000
END:STANDARD
END:VTIMEZONE
BEGIN:VEVENT
DTSTART;TZID=America/New_York:20210715T180000
DTEND;TZID=America/New_York:20210715T200000
DTSTAMP:20260424T075355
CREATED:20210713T173825Z
LAST-MODIFIED:20210713T174624Z
UID:1134-1626372000-1626379200@neighborhood-house.com
SUMMARY:Sip and Paint with Kaity Lacy
DESCRIPTION:Join us as we complete together a watercolor painting featuring the historic south front of Christ Church in the Christ Church Garden! \nWant a fun painting night out with your friends where you can actually learn how to paint? Kaity Lacy is a highly sought-after commission artist\, art teacher\, and published illustrator of the Gata Unbound book series\, her years of experience in the art industry will help you tap into skills you didn’t even know you had. Cocktails from Art in the Age\, wine\, beer\, and snacks available. \nYour ticket purchase supports our subsidized artist rentals program. More information and ways to donate. \n			\n				Purchase Tickets
URL:https://neighborhood-house.com/event/sip-and-paint-with-kaity-lacy-2/
LOCATION:Christ Church Garden\, 20 N American Street\, Philadelphia\, PA\, 19106\, United States
ATTACH;FMTTYPE=image/jpeg:https://neighborhood-house.com/wp-content/uploads/2021/07/145402323620458-christ-church-watercolor.0.577.2581.1721.full_.jpg
END:VEVENT
BEGIN:VEVENT
DTSTART;TZID=America/New_York:20210716T200000
DTEND;TZID=America/New_York:20210716T220000
DTSTAMP:20260424T075355
CREATED:20210521T180506Z
LAST-MODIFIED:20210809T173254Z
UID:906-1626465600-1626472800@neighborhood-house.com
SUMMARY:The Philadelphia Matter - 1972/2020
DESCRIPTION:The much anticipated in-person premiere of The Philadelphia Matter – 1972/2020 is finally here!\n			\n				\n				\n				\n				\n				In September 2020\, celebrated choreographer\, director\, and writer David Gordon premiered his first new screen work in two decades with a “virtual” performance company of 30+ Philadelphia\, New York\, and artists in quarantine across the United States. Working remotely\, they recorded video material on everything from iPhones to professional cameras. Gordon then dissected\, assembled\, and collaged this movement with visual scores and archival works. Designer and technician Jorge Cousineau displays his artistic prowess in a stunning blend of footage of David and his partners dancing through the decades\, overlaid with text and narration of their stories\, all playing amidst and alongside the contemporary cast performing their dances in the most unlikely and picturesque spots across the nation. \nWe were unable to celebrate together in-person last year due to the pandemic – but we are so pleased to announce that on Friday\, July 16 and Saturday\, July 17\, we will finally be able to join together in the Christ Church Garden for a free outdoor screening of this extraordinary piece. Cocktails\, wine\, beer\, and snacks available for purchase. \n \nMajor support for The Philadelphia Matter – 1972/2020 has been provided to Christ Church Preservation Trust by The Pew Center for Arts & Heritage. \nFree and open to the public \nJoin us for additional programs\, workshops\, and screaming during the Philadelphia Fringe Festival this September. \nPublic workshop and mini preview on Wednesday\, June 30\, 3-6PM during the Farmers Market at Christ Church. Watch sections of the show and then get to try the moves yourself! This free event is open to everyone at all levels\, so don’t be shy. \n			\n				See Event on Facebook
URL:https://neighborhood-house.com/event/the-philadelphia-matter-1972-2020-friday/2021-07-16/
LOCATION:Christ Church Garden\, 20 N American Street\, Philadelphia\, PA\, 19106\, United States
CATEGORIES:325 Celebration Series Events
ATTACH;FMTTYPE=image/jpeg:https://neighborhood-house.com/wp-content/uploads/2021/07/The-Philadelphia-Matter-Postcard-FRONT.jpeg
END:VEVENT
BEGIN:VEVENT
DTSTART;TZID=America/New_York:20210722T180000
DTEND;TZID=America/New_York:20210722T200000
DTSTAMP:20260424T075355
CREATED:20210713T172441Z
LAST-MODIFIED:20210713T172636Z
UID:1123-1626976800-1626984000@neighborhood-house.com
SUMMARY:Summer Concert Series: John Marcel Williams
DESCRIPTION:Award-winning classical guitarist John Marcel Williams is establishing a reputation as both a virtuoso concert artist and a devoted teacher. By age 16 he had garnered over 20 prizes at competitions\, including first prize at the Boston Guitar Festival youth competition\, Rosario Guitar Festival\, Classical Minds Guitar Festival\, and second prize at the International Guitar Foundation of America young artist competition. In addition\, he was awarded first prize at the James Stroud competition and won the Pittsburgh Concert Society Audition. \nCocktails from Art in the Age\, wine\, beer\, and snacks will be available for purchase. \nSpecial thanks to Old City Coffee for their support. \nPlease note that our rooftop is not wheelchair accessible. \nFREE but donations are appreciated. Registration is not required but is also appreciated. \nContact:Vince Lattucavlattuca@christchurchphila.org \n			\n				Register for Free
URL:https://neighborhood-house.com/event/summer-concert-series-john-marcel-williams/
LOCATION:The Roof\, 20 N American Street\, Philadelphia\, PA\, 19106\, United States
CATEGORIES:Rooftop Series
ATTACH;FMTTYPE=image/png:https://neighborhood-house.com/wp-content/uploads/2021/07/773357495469854063-concert-vl-edit-2160-x-1080.269.0.1616.1077.full_.png
END:VEVENT
BEGIN:VEVENT
DTSTART;TZID=America/New_York:20210723T170000
DTEND;TZID=America/New_York:20210723T190000
DTSTAMP:20260424T075355
CREATED:20210713T172921Z
LAST-MODIFIED:20210819T150538Z
UID:1126-1627059600-1627066800@neighborhood-house.com
SUMMARY:Summer Sippers - Rooftop Cocktail Workshop with Art in the Age
DESCRIPTION:Join us and our friends at Art in the Age on our rooftop for an evening of great views and even better cocktails. This interactive workshop will walk you through how to make some of your favorite summer refreshers! \nOne ticket includes: a table for two\, all necessary ingredients to make two cocktails per person\, and one interactive demonstration and instruction on a specialty cocktail. \nPlease note that our rooftop is not wheelchair accessible. \nPrice:$100 for a table for two \nContact:Vince Lattucavlattuca@christchurchphila.org \n			\n				Purchase Tickets
URL:https://neighborhood-house.com/event/summer-sippers-rooftop-cocktail-workshop-with-art-in-the-age/2021-07-23/
LOCATION:PA
CATEGORIES:Rooftop Series
ATTACH;FMTTYPE=image/jpeg:https://neighborhood-house.com/wp-content/uploads/2021/07/805152772771408654-0381-grmv-21-rooftopcocktails-infeed-r3.41.84.1000.667.full_.jpg
END:VEVENT
END:VCALENDAR