BEGIN:VCALENDAR
VERSION:2.0
PRODID:-//Christ Church Neighborhood House - ECPv6.15.6//NONSGML v1.0//EN
CALSCALE:GREGORIAN
METHOD:PUBLISH
X-ORIGINAL-URL:https://neighborhood-house.com
X-WR-CALDESC:Events for Christ Church Neighborhood House
REFRESH-INTERVAL;VALUE=DURATION:PT1H
X-Robots-Tag:noindex
X-PUBLISHED-TTL:PT1H
BEGIN:VTIMEZONE
TZID:America/New_York
BEGIN:DAYLIGHT
TZOFFSETFROM:-0500
TZOFFSETTO:-0400
TZNAME:EDT
DTSTART:20200308T070000
END:DAYLIGHT
BEGIN:STANDARD
TZOFFSETFROM:-0400
TZOFFSETTO:-0500
TZNAME:EST
DTSTART:20201101T060000
END:STANDARD
BEGIN:DAYLIGHT
TZOFFSETFROM:-0500
TZOFFSETTO:-0400
TZNAME:EDT
DTSTART:20210314T070000
END:DAYLIGHT
BEGIN:STANDARD
TZOFFSETFROM:-0400
TZOFFSETTO:-0500
TZNAME:EST
DTSTART:20211107T060000
END:STANDARD
BEGIN:DAYLIGHT
TZOFFSETFROM:-0500
TZOFFSETTO:-0400
TZNAME:EDT
DTSTART:20220313T070000
END:DAYLIGHT
BEGIN:STANDARD
TZOFFSETFROM:-0400
TZOFFSETTO:-0500
TZNAME:EST
DTSTART:20221106T060000
END:STANDARD
END:VTIMEZONE
BEGIN:VEVENT
DTSTART;TZID=America/New_York:20210526T180000
DTEND;TZID=America/New_York:20210526T200000
DTSTAMP:20260424T111313
CREATED:20210521T155646Z
LAST-MODIFIED:20210526T010354Z
UID:887-1622052000-1622059200@neighborhood-house.com
SUMMARY:Concert En Plein Air
DESCRIPTION:Join us for an outdoor fundraiser supporting Christ Church Preservation Trust. Stroll through the grounds and delight in specialized tours\, the musical stylings of Philadelphia-based wind ensemble – Revolution Winds\, and snacks and refreshments from local merchants. Casual dress and comfortable footwear are encouraged as well as blankets/camping chairs to watch the concert. Masks or face coverings required. \n			\n				Reserve Tickets
URL:https://neighborhood-house.com/event/concert-en-plein-air/
LOCATION:Burial Ground\, 5th and Arch Streets\, Philadelphia\, PA\, 19106\, United States
CATEGORIES:325 Celebration Series Events,Burial Ground Events
ATTACH;FMTTYPE=image/jpeg:https://neighborhood-house.com/wp-content/uploads/2021/05/https___cdn.evbuc_.com_images_131460509_92018482817_1_original.jpg
END:VEVENT
END:VCALENDAR